BEGIN:VCALENDAR
VERSION:2.0
PRODID:-//MV-FOTO e.V. - ECPv6.15.8//NONSGML v1.0//EN
CALSCALE:GREGORIAN
METHOD:PUBLISH
X-ORIGINAL-URL:https://www.mv-foto-ev.de
X-WR-CALDESC:Veranstaltungen für MV-FOTO e.V.
REFRESH-INTERVAL;VALUE=DURATION:PT1H
X-Robots-Tag:noindex
X-PUBLISHED-TTL:PT1H
BEGIN:VTIMEZONE
TZID:Europe/Berlin
BEGIN:DAYLIGHT
TZOFFSETFROM:+0100
TZOFFSETTO:+0200
TZNAME:CEST
DTSTART:20210328T010000
END:DAYLIGHT
BEGIN:STANDARD
TZOFFSETFROM:+0200
TZOFFSETTO:+0100
TZNAME:CET
DTSTART:20211031T010000
END:STANDARD
BEGIN:DAYLIGHT
TZOFFSETFROM:+0100
TZOFFSETTO:+0200
TZNAME:CEST
DTSTART:20220327T010000
END:DAYLIGHT
BEGIN:STANDARD
TZOFFSETFROM:+0200
TZOFFSETTO:+0100
TZNAME:CET
DTSTART:20221030T010000
END:STANDARD
BEGIN:DAYLIGHT
TZOFFSETFROM:+0100
TZOFFSETTO:+0200
TZNAME:CEST
DTSTART:20230326T010000
END:DAYLIGHT
BEGIN:STANDARD
TZOFFSETFROM:+0200
TZOFFSETTO:+0100
TZNAME:CET
DTSTART:20231029T010000
END:STANDARD
BEGIN:DAYLIGHT
TZOFFSETFROM:+0100
TZOFFSETTO:+0200
TZNAME:CEST
DTSTART:20240331T010000
END:DAYLIGHT
BEGIN:STANDARD
TZOFFSETFROM:+0200
TZOFFSETTO:+0100
TZNAME:CET
DTSTART:20241027T010000
END:STANDARD
END:VTIMEZONE
BEGIN:VEVENT
DTSTART;TZID=Europe/Berlin:20221106T150000
DTEND;TZID=Europe/Berlin:20230115T170000
DTSTAMP:20260419T164558
CREATED:20221029T112512Z
LAST-MODIFIED:20221029T112606Z
UID:4125-1667746800-1673802000@www.mv-foto-ev.de
SUMMARY:Ausstellung "Nachbarschaft"
DESCRIPTION:Ausstellung „Nachbarschaft beginnt gleich nebenan“\nWie zeigt sich Nachbarschaft? Dieser Frage haben sich die Mitglieder des MV-Foto e.V. gewidmet.  \nEs ist eine Spezialität der Fotografenvereinigung\, Gewöhnliches und scheinbar Banales in besonderer Art und Weise im Bild zu konservieren. Mit dem Blick durch die Kamera\, der persönlichen Wahrnehmung sowie den Mitteln der künstlerischen Fotografie gelingt es den Ausstellern immer wieder\, vereint anders zu sehen.   \nDie Nachbarschaft neu zu entdecken war der selbst gewählte Auftrag\, dem sich gleich neun Fotografinnen und Fotografen gestellt haben. So haben sie ihre Blicke bewusst in die Nachbarschaft gerichtet und ihre Werke für die Ausstellung\, die am 6. November um 15 Uhr in der Schweriner MV-Fotogalerie eröffnet wird\, arrangiert. \n„Eine Nachbarschaft kann fotografisch unterschiedlich weit gespannt\, betrachtet und interpretiert werden. Sie kann menschliche\, tierische\, pflanzliche\, landschaftliche oder auch gegenständliche Ausprägungen haben. Als Fotografen sind wir doch auch immer Teil einer Nachbarschaft und treten durch unsere visuelle Wahrnehmung\, bzw. einer teilnehmenden Beobachtung stets selbst unmittelbar mit in diesen Mikrokosmos ein“\, so Uwe Nölke\, Fotograf\, Ideengeber und Kurator der neuen Exposition.  \nHerausgefunden haben alle gemeinsam\, dass Nachbarschaft gleich nebenan beginnt. Ganz nebenbei ist aufgefallen\, dass man echte Nachbarschaften eher an gemeinsamen und verbindenden Eigenschaften als an trennenden Merkmalen oder Grenzen erkennt. Man muß eben nur genau hinschauen\, wenn man gut nachbarschaftlich miteinander zurecht kommen möchte.  \nDiese Ausstellung zeigt einmal mehr\, wie vielfältig und persönlich die Wahrnehmung jedes einzelnen Fotografen ist.    \nEine Ausstellung in der MV-Fotogalerie vom 06.11. – 15.01.2023 Eröffnung am 06.11.2022 um 15 Uhr.\nGeöffnet Do-So von 15 – 17 Uhr – der Eintritt ist frei. \nFotos Header & Beitrag: Uwe Nölke
URL:https://www.mv-foto-ev.de/veranstaltungen/ausstellung-nachbarschaft/
LOCATION:Mecklenburg-Vorpommern
CATEGORIES:Ausstellungen
ATTACH;FMTTYPE=image/jpeg:https://www.mv-foto-ev.de/wp-content/uploads/2022/10/Beitragsbild.jpg
END:VEVENT
BEGIN:VEVENT
DTSTART;TZID=Europe/Berlin:20230122T150000
DTEND;TZID=Europe/Berlin:20230305T170000
DTSTAMP:20260419T164558
CREATED:20230104T103516Z
LAST-MODIFIED:20230123T105140Z
UID:4140-1674399600-1678035600@www.mv-foto-ev.de
SUMMARY:Ausstellung "RING FREI"
DESCRIPTION:Ausstellung „RING FREI“\nManfred Klement\, geb. 1960. Fotografischer Autodidakt seit 2007 mit dem Hintergrund der Reportage- und Dokumentarfotografie. \nDie hier gezeigten Fotografien sind Teil eines größeren Werkkomplexes über den Boxverein BC Traktor Schwerin e.V. und den Akteuren im Olympiastützpunkt Boxen in Schwerin\, der im Februar 2018 begonnen hat und andauert. Bei meinem ersten Besuch hörte ich\, bevor ich die Trainingshalle betrat\, schon das Geräusch der Springseile und\, ich kann es mit Worten kaum  wiedergeben\,  war eingenommen von dem Geruch von Schweiß. In diesem Moment war klar: Hier bin ich richtig! Cheftrainer Michael Timm stellte mich den Anwesenden kurz vor – nun lag es also an mir\, etwas daraus zu machen. Mich faszinieren die athletischen\, körperlichen und technischen Fähigkeiten der Boxer:innen. Um sich im Ring behaupten zu können\, bedarf es einer Gesamtheit von Angriffs- und Verteidigungsfertigkeiten und einer variantenreichen Taktik sowie mentale Fähigkeiten. Bevor es zu den Wettkämpfen geht\, wird vielseitig trainiert. Das Fotografieren am und gelegentlich im Ring ist ein stetes ausfindig machen der Kameraperspektive auf engem Raum. Das bereitet mir unendlich Freude. \nEine Ausstellung in der MV-Fotogalerie (Schwerin\, Puschkinstr\, 13) vom 22.01. – 05.03.2023. Eröffnung am 22.01.2023 um 15 Uhr.\nGeöffnet Do – So von 15 – 17 Uhr – der Eintritt ist frei. \nFoto: Manfred Klement
URL:https://www.mv-foto-ev.de/veranstaltungen/ausstellung-ring-frei/
LOCATION:Mecklenburg-Vorpommern
CATEGORIES:Ausstellungen
ATTACH;FMTTYPE=image/jpeg:https://www.mv-foto-ev.de/wp-content/uploads/2023/01/0Z4A6580-sw_Foto-MKlement.jpg
END:VEVENT
END:VCALENDAR