BEGIN:VCALENDAR
VERSION:2.0
PRODID:-//MV-FOTO e.V. - ECPv6.15.8//NONSGML v1.0//EN
CALSCALE:GREGORIAN
METHOD:PUBLISH
X-WR-CALNAME:MV-FOTO e.V.
X-ORIGINAL-URL:https://www.mv-foto-ev.de
X-WR-CALDESC:Veranstaltungen für MV-FOTO e.V.
REFRESH-INTERVAL;VALUE=DURATION:PT1H
X-Robots-Tag:noindex
X-PUBLISHED-TTL:PT1H
BEGIN:VTIMEZONE
TZID:Europe/Berlin
BEGIN:DAYLIGHT
TZOFFSETFROM:+0100
TZOFFSETTO:+0200
TZNAME:CEST
DTSTART:20210328T010000
END:DAYLIGHT
BEGIN:STANDARD
TZOFFSETFROM:+0200
TZOFFSETTO:+0100
TZNAME:CET
DTSTART:20211031T010000
END:STANDARD
BEGIN:DAYLIGHT
TZOFFSETFROM:+0100
TZOFFSETTO:+0200
TZNAME:CEST
DTSTART:20220327T010000
END:DAYLIGHT
BEGIN:STANDARD
TZOFFSETFROM:+0200
TZOFFSETTO:+0100
TZNAME:CET
DTSTART:20221030T010000
END:STANDARD
BEGIN:DAYLIGHT
TZOFFSETFROM:+0100
TZOFFSETTO:+0200
TZNAME:CEST
DTSTART:20230326T010000
END:DAYLIGHT
BEGIN:STANDARD
TZOFFSETFROM:+0200
TZOFFSETTO:+0100
TZNAME:CET
DTSTART:20231029T010000
END:STANDARD
END:VTIMEZONE
BEGIN:VEVENT
DTSTART;TZID=Europe/Berlin:20220313T150000
DTEND;TZID=Europe/Berlin:20220508T180000
DTSTAMP:20260422T162523
CREATED:20220105T114600Z
LAST-MODIFIED:20220511T093905Z
UID:3940-1647183600-1652032800@www.mv-foto-ev.de
SUMMARY:Ausstellung "FOTOGRAFIE zwischen KUNST und TECHNIK"
DESCRIPTION:Ausstellung „FOTOGRAFIE zwischen KUNST und TECHNIK“\n\n\n\n\nBei dieser Ausstellung geht es darum\, die Position der Fotografie zu beschreiben\, in Richtung Kunst zu schauen und in Richtung Technik.\nWie viel Technisches\, bzw. wie viel Künstlerisches steckt in dem fotografischen Bild?\nWie stark beeinflussen sich die Fotografie und die Malerei? Wie groß ist der wissenschaftlich-technische Einfluss auf das fotografische Bild. Welche Rolle spielen Ideen und Emotionen? \nDie Fotografie steht seit ihrer Erfindung zwischen der Kunst und der Technik und hat in diesem Raum eine ganz eigene Magie entwickelt. \nSieben Mitglieder des MV-Foto e.V. (Christine de Boom\, Rainer Dahlmeier\, Anne Jüngling\, Manfred Klement\, Angelika Lindenbeck\, Manfred Scharnberg und Jutta Schwöbel) gehen auf sehr unterschiedliche Weise die Grenzen ab\, konturieren oder verwischen sie. \nEine Ausstellung in der MV-Fotogalerie vom 13.03. – 08.05.2022. Eröffnung am 13.03.2022 um 15 Uhr.\nGeöffnet Do-So von 15 – 18 Uhr – der Eintritt ist frei. \nText: Jutta Schwöbel\nBeitragsfotos & Header: Manfred Scharnberg
URL:https://www.mv-foto-ev.de/veranstaltungen/ausstellung-fotografie-zwischen-kunst-und-technik/
LOCATION:MV-Fotogalerie\, Puschkinstraße 13\, Schwerin\, Mecklenburg-Vorpommern\, 19055\, Deutschland
CATEGORIES:Ausstellungen
ATTACH;FMTTYPE=image/jpeg:https://www.mv-foto-ev.de/wp-content/uploads/2022/01/Webseite-1-Manfred-Scharnberg.jpg
END:VEVENT
BEGIN:VEVENT
DTSTART;TZID=Europe/Berlin:20220420T190000
DTEND;TZID=Europe/Berlin:20220420T203000
DTSTAMP:20260422T162523
CREATED:20220414T095828Z
LAST-MODIFIED:20220414T201504Z
UID:4054-1650481200-1650486600@www.mv-foto-ev.de
SUMMARY:Öffentlicher Galerieabend mit einem historischen abstrakten Film
DESCRIPTION:Buch Herbert Schwöbel \n  \nIm Rahmen der Ausstellung „Fotografie zwischen Kunst und Technik“ zeigt der MV-Foto e.V. am 20. April 2022 um 19 Uhr einen historischen abstrakten Film von  Herbert Schwöbel (1919-2008)\,  der auch als ein Medium zwischen Kunst und  Technik zu sehen ist.   \nGedreht wurde der Film 1955 mit einer Bolex H16 und mit Studenten der Akademie in Karlsruhe und zeigt unter anderem ein HAP Grieshaber-Seminar. Das war der Grund\, warum in der Kunstwelt der dann so genannte „Karlsruhe-Film“ bekannt wurde\, denn es gab da bisher nur wenig Filmmaterial über HAP Grieshaber.  \nEine Einführung spricht Jutta Schwöbel.    \nMV-Foto e.V.\, Galerie im Hof der VHS. Der Eintritt ist frei.
URL:https://www.mv-foto-ev.de/veranstaltungen/oeffentlicher-galerieabend-historisch-abstrakter-filmvortrag/
LOCATION:Mecklenburg-Vorpommern
CATEGORIES:Event,Vortrag
END:VEVENT
END:VCALENDAR